BEGIN:VCALENDAR
VERSION:2.0
PRODID:-//RC Vorwärts Speyer - ECPv6.15.20//NONSGML v1.0//EN
CALSCALE:GREGORIAN
METHOD:PUBLISH
X-WR-CALNAME:RC Vorwärts Speyer
X-ORIGINAL-URL:https://www.rsv-speyer.de
X-WR-CALDESC:Veranstaltungen für RC Vorwärts Speyer
REFRESH-INTERVAL;VALUE=DURATION:PT1H
X-Robots-Tag:noindex
X-PUBLISHED-TTL:PT1H
BEGIN:VTIMEZONE
TZID:Europe/Paris
BEGIN:DAYLIGHT
TZOFFSETFROM:+0100
TZOFFSETTO:+0200
TZNAME:CEST
DTSTART:20250330T010000
END:DAYLIGHT
BEGIN:STANDARD
TZOFFSETFROM:+0200
TZOFFSETTO:+0100
TZNAME:CET
DTSTART:20251026T010000
END:STANDARD
BEGIN:DAYLIGHT
TZOFFSETFROM:+0100
TZOFFSETTO:+0200
TZNAME:CEST
DTSTART:20260329T010000
END:DAYLIGHT
BEGIN:STANDARD
TZOFFSETFROM:+0200
TZOFFSETTO:+0100
TZNAME:CET
DTSTART:20261025T010000
END:STANDARD
BEGIN:DAYLIGHT
TZOFFSETFROM:+0100
TZOFFSETTO:+0200
TZNAME:CEST
DTSTART:20270328T010000
END:DAYLIGHT
BEGIN:STANDARD
TZOFFSETFROM:+0200
TZOFFSETTO:+0100
TZNAME:CET
DTSTART:20271031T010000
END:STANDARD
END:VTIMEZONE
BEGIN:VEVENT
DTSTART;TZID=Europe/Paris:20260404T201000
DTEND;TZID=Europe/Paris:20260404T220000
DTSTAMP:20260424T114937
CREATED:20260305T122035Z
LAST-MODIFIED:20260305T195830Z
UID:8857-1775333400-1775340000@www.rsv-speyer.de
SUMMARY:Flugplatzlauf Speyer – Ostersamstag 04.04.2026
DESCRIPTION:Der beliebte Flugplatzlauf des RC Vorwärts Speyer findet am Ostersamstag 04.04.2026 auf dem Flugplatz Speyer statt. \nDie rund 10 km lange Strecke führt über drei Runden auf dem asphaltierten Rundkurs des Flugplatzes. Mit einsetzender Dämmerung wird die Runway-Beleuchtung eingeschaltet – ein besonderes Lauferlebnis vor der Kulisse des Speyerer Doms. \nAlle Informationen zur Anmeldung finden Sie hier in der: Ausschreibung Flugplatzlauf_2026
URL:https://www.rsv-speyer.de/event/flugplatzlauf-speyer-ostersamstag-04-04-2026/
LOCATION:Flugplatz Speyer\, Joachim-Becher-Str. 2\, Speyer\, 67346\, Deutschland
CATEGORIES:Verein
ATTACH;FMTTYPE=image/jpeg:https://www.rsv-speyer.de/wp-content/uploads/2024/01/IMG_8130-scaled.jpeg
END:VEVENT
END:VCALENDAR