BEGIN:VCALENDAR
VERSION:2.0
PRODID:-//RC Vorwärts Speyer - ECPv6.15.20//NONSGML v1.0//EN
CALSCALE:GREGORIAN
METHOD:PUBLISH
X-WR-CALNAME:RC Vorwärts Speyer
X-ORIGINAL-URL:https://www.rsv-speyer.de
X-WR-CALDESC:Veranstaltungen für RC Vorwärts Speyer
REFRESH-INTERVAL;VALUE=DURATION:PT1H
X-Robots-Tag:noindex
X-PUBLISHED-TTL:PT1H
BEGIN:VTIMEZONE
TZID:Europe/Paris
BEGIN:DAYLIGHT
TZOFFSETFROM:+0100
TZOFFSETTO:+0200
TZNAME:CEST
DTSTART:20250330T010000
END:DAYLIGHT
BEGIN:STANDARD
TZOFFSETFROM:+0200
TZOFFSETTO:+0100
TZNAME:CET
DTSTART:20251026T010000
END:STANDARD
BEGIN:DAYLIGHT
TZOFFSETFROM:+0100
TZOFFSETTO:+0200
TZNAME:CEST
DTSTART:20260329T010000
END:DAYLIGHT
BEGIN:STANDARD
TZOFFSETFROM:+0200
TZOFFSETTO:+0100
TZNAME:CET
DTSTART:20261025T010000
END:STANDARD
BEGIN:DAYLIGHT
TZOFFSETFROM:+0100
TZOFFSETTO:+0200
TZNAME:CEST
DTSTART:20270328T010000
END:DAYLIGHT
BEGIN:STANDARD
TZOFFSETFROM:+0200
TZOFFSETTO:+0100
TZNAME:CET
DTSTART:20271031T010000
END:STANDARD
END:VTIMEZONE
BEGIN:VEVENT
DTSTART;TZID=Europe/Paris:20260712T090000
DTEND;TZID=Europe/Paris:20260712T140000
DTSTAMP:20260422T132247
CREATED:20260305T121200Z
LAST-MODIFIED:20260305T145545Z
UID:8854-1783846800-1783864800@www.rsv-speyer.de
SUMMARY:Brezelfestlauf Speyer 2026
DESCRIPTION:Der Brezelfestlauf des RC Vorwärts Speyer findet am 12. Juli 2026 rund um den Domgarten statt. \nAlle Informationen und Anmeldung sind hier verfügbar.
URL:https://www.rsv-speyer.de/event/brezelfestlauf-speyer-2026/
LOCATION:Domplatz Speyer\, Domplatz\, Speyer\, 67346\, Deutschland
CATEGORIES:Volkslauf
ATTACH;FMTTYPE=image/jpeg:https://www.rsv-speyer.de/wp-content/uploads/2026/03/Brezelfestlauf-Start-scaled.jpeg
END:VEVENT
END:VCALENDAR